BEGIN:VCALENDAR
VERSION:2.0
PRODID:-//HISTOIRE DES ARTS - ECPv6.15.20//NONSGML v1.0//EN
CALSCALE:GREGORIAN
METHOD:PUBLISH
X-WR-CALNAME:HISTOIRE DES ARTS
X-ORIGINAL-URL:https://sites.ac-nancy-metz.fr/histoire-des-arts
X-WR-CALDESC:Évènements pour HISTOIRE DES ARTS
REFRESH-INTERVAL;VALUE=DURATION:PT1H
X-Robots-Tag:noindex
X-PUBLISHED-TTL:PT1H
BEGIN:VTIMEZONE
TZID:Europe/Paris
BEGIN:DAYLIGHT
TZOFFSETFROM:+0100
TZOFFSETTO:+0200
TZNAME:CEST
DTSTART:20240331T010000
END:DAYLIGHT
BEGIN:STANDARD
TZOFFSETFROM:+0200
TZOFFSETTO:+0100
TZNAME:CET
DTSTART:20241027T010000
END:STANDARD
BEGIN:DAYLIGHT
TZOFFSETFROM:+0100
TZOFFSETTO:+0200
TZNAME:CEST
DTSTART:20250330T010000
END:DAYLIGHT
BEGIN:STANDARD
TZOFFSETFROM:+0200
TZOFFSETTO:+0100
TZNAME:CET
DTSTART:20251026T010000
END:STANDARD
BEGIN:DAYLIGHT
TZOFFSETFROM:+0100
TZOFFSETTO:+0200
TZNAME:CEST
DTSTART:20260329T010000
END:DAYLIGHT
BEGIN:STANDARD
TZOFFSETFROM:+0200
TZOFFSETTO:+0100
TZNAME:CET
DTSTART:20261025T010000
END:STANDARD
END:VTIMEZONE
BEGIN:VEVENT
DTSTART;VALUE=DATE:20250607
DTEND;VALUE=DATE:20250609
DTSTAMP:20260422T135826
CREATED:20250524T073250Z
LAST-MODIFIED:20250524T073406Z
UID:537-1749254400-1749427199@sites.ac-nancy-metz.fr
SUMMARY:Journées de l'Art Nouveau 2025 à Nancy
DESCRIPTION:Evénement au Musée des Beaux-Arts\, au Musée de l’Ecole de Nancy et à la Villa Majorelle. \nUn week-end complet de fête conviviale pour honorer l’Art nouveau nancéien autour du thème de la couleur. \nL’occasion de découvrir la nouvelle exposition du Musée de l’Ecole de Nancy : Sous le signe de la modernité. La Maison Corbin et les Magasins Réunis dans les années 1920 \nLe musée de l’École de Nancy est installé dans l’ancienne maison d’Eugène Corbin\, agrandie en 1922 dans un style Art déco. C’est cette même voie qu’il choisit pour la reconstruction des Magasins Réunis de Nancy en 1926. Des documents et éléments de décor de l’aile 1920 de la maison sont associés aux outils publicitaires et aux objets édités par les Arts Réunis de cette époque. \nProgrammation détaillée
URL:https://sites.ac-nancy-metz.fr/histoire-des-arts/event/journees-de-lart-nouveau-2025-a-nancy/
ATTACH;FMTTYPE=image/png:https://sites.ac-nancy-metz.fr/histoire-des-arts/wp-content/uploads/2025/05/Capture-decran-2025-05-24-093227.png
END:VEVENT
END:VCALENDAR