BEGIN:VCALENDAR
VERSION:2.0
PRODID:-//HISTOIRE DES ARTS - ECPv6.15.20//NONSGML v1.0//EN
CALSCALE:GREGORIAN
METHOD:PUBLISH
X-ORIGINAL-URL:https://sites.ac-nancy-metz.fr/histoire-des-arts
X-WR-CALDESC:Évènements pour HISTOIRE DES ARTS
REFRESH-INTERVAL;VALUE=DURATION:PT1H
X-Robots-Tag:noindex
X-PUBLISHED-TTL:PT1H
BEGIN:VTIMEZONE
TZID:Europe/Paris
BEGIN:DAYLIGHT
TZOFFSETFROM:+0100
TZOFFSETTO:+0200
TZNAME:CEST
DTSTART:20240331T010000
END:DAYLIGHT
BEGIN:STANDARD
TZOFFSETFROM:+0200
TZOFFSETTO:+0100
TZNAME:CET
DTSTART:20241027T010000
END:STANDARD
BEGIN:DAYLIGHT
TZOFFSETFROM:+0100
TZOFFSETTO:+0200
TZNAME:CEST
DTSTART:20250330T010000
END:DAYLIGHT
BEGIN:STANDARD
TZOFFSETFROM:+0200
TZOFFSETTO:+0100
TZNAME:CET
DTSTART:20251026T010000
END:STANDARD
BEGIN:DAYLIGHT
TZOFFSETFROM:+0100
TZOFFSETTO:+0200
TZNAME:CEST
DTSTART:20260329T010000
END:DAYLIGHT
BEGIN:STANDARD
TZOFFSETFROM:+0200
TZOFFSETTO:+0100
TZNAME:CET
DTSTART:20261025T010000
END:STANDARD
END:VTIMEZONE
BEGIN:VEVENT
DTSTART;TZID=Europe/Paris:20250611T183000
DTEND;TZID=Europe/Paris:20250611T200000
DTSTAMP:20260422T141422
CREATED:20250506T170628Z
LAST-MODIFIED:20250506T185258Z
UID:361-1749666600-1749672000@sites.ac-nancy-metz.fr
SUMMARY:Lancement de saison 2025/2026 au Centre Pompidou-Metz
DESCRIPTION:LANCEMENT DE SAISON 2025/2026\n\nRetenez cette date !\nMercredi 11 juin 2025 à 18h30 au Centre Pompidou-Metz\n\nTout savoir sur la programmation à venir ! Un lancement de saison est prévu le mercredi 11 juin 2025 à 18h30 dans l’Auditorium Wendel du Centre Pompidou-Metz. Ce sera l’occasion de découvrir la programmation 2025/2026 et de présenter les projets d’éducation artistique et culturelle\, présents et à venir.\nUne collation sera prévue en fin de séance pour échanger\, discuter\, faire connaissance.\n\nPour s’inscrire : envoyer un mail à Anne Oster\, chargée des actions éducatives et de médiation en précisant le nom de votre établissement et votre niveau de classe.\nanne.oster@centrepompidou-metz.fr
URL:https://sites.ac-nancy-metz.fr/histoire-des-arts/event/lancement-de-saison-2025-2026-au-centre-pompidou-metz/
ATTACH;FMTTYPE=image/jpeg:https://sites.ac-nancy-metz.fr/histoire-des-arts/wp-content/uploads/2025/05/Pompidou22.jpg
END:VEVENT
END:VCALENDAR