BEGIN:VCALENDAR
VERSION:2.0
PRODID:-//HISTOIRE DES ARTS - ECPv6.15.20//NONSGML v1.0//EN
CALSCALE:GREGORIAN
METHOD:PUBLISH
X-WR-CALNAME:HISTOIRE DES ARTS
X-ORIGINAL-URL:https://sites.ac-nancy-metz.fr/histoire-des-arts
X-WR-CALDESC:Évènements pour HISTOIRE DES ARTS
REFRESH-INTERVAL;VALUE=DURATION:PT1H
X-Robots-Tag:noindex
X-PUBLISHED-TTL:PT1H
BEGIN:VTIMEZONE
TZID:Europe/Paris
BEGIN:DAYLIGHT
TZOFFSETFROM:+0100
TZOFFSETTO:+0200
TZNAME:CEST
DTSTART:20240331T010000
END:DAYLIGHT
BEGIN:STANDARD
TZOFFSETFROM:+0200
TZOFFSETTO:+0100
TZNAME:CET
DTSTART:20241027T010000
END:STANDARD
BEGIN:DAYLIGHT
TZOFFSETFROM:+0100
TZOFFSETTO:+0200
TZNAME:CEST
DTSTART:20250330T010000
END:DAYLIGHT
BEGIN:STANDARD
TZOFFSETFROM:+0200
TZOFFSETTO:+0100
TZNAME:CET
DTSTART:20251026T010000
END:STANDARD
BEGIN:DAYLIGHT
TZOFFSETFROM:+0100
TZOFFSETTO:+0200
TZNAME:CEST
DTSTART:20260329T010000
END:DAYLIGHT
BEGIN:STANDARD
TZOFFSETFROM:+0200
TZOFFSETTO:+0100
TZNAME:CET
DTSTART:20261025T010000
END:STANDARD
END:VTIMEZONE
BEGIN:VEVENT
DTSTART;TZID=Europe/Paris:20251112T140000
DTEND;TZID=Europe/Paris:20251112T170000
DTSTAMP:20260422T055937
CREATED:20251008T155454Z
LAST-MODIFIED:20251008T155711Z
UID:761-1762956000-1762966800@sites.ac-nancy-metz.fr
SUMMARY:Découverte du CCAM et rencontre avec un artiste - Un après-midi musical spécial enseignants
DESCRIPTION:Chers enseignant.e.s\, référent.e.s culture\, conseiller.ères pédagogiques du 1er et 2nd degré\, éducateur-ices\, \nVenez découvrir le CCAM\, son équipe et ses coulisses !  \nMercredi 12 novembre de 14h à 17h \nCCAM Scène Nationale à Vandœuvre – \n\nEsplanade Jack Ralite\, 3 Rue de Parme\,\n54500 Vandœuvre-lès-Nancy\n\nCe rendez-vous spécialement imaginé pour vous serait l’occasion de vous faire découvrir toute l’étendue de ce que nous pourrions coconstruire ensemble pour vos élèves !  \nVisites des coulisses du théâtre\, d’une exposition\, venue à un spectacle\, participation à des ateliers de pratiques artistiques … \nCet après-midi de rencontres autour de la pratique musicale vous sera proposé en deux temps : \n\n14h-15h : – Visite des coulisses du théâtre et découverte de sa programmation en quelques dates clés avec Manon Albizzati – Chargée des relations avec les publics scolaires ; \n– Courte table ronde autour des possibilités d’activités inter/trans-disciplinaires avec Olivera Mannoni\, référente DAAC musique et chant choral et Catherine Vanoli\, Chargée de mission en structure culturelle DAAC au CCAM.\n\n\n15h-17h :  temps d’échange privilégié avec le musicien et compositeur Hervé Birolini autour de ses explorations créatives et sonores qui engagent l’espace\, le corps \, le geste\, la scénographie.\n\nSi ce rendez-vous vous intéresse\, contacter Manon Albizzati par mail ou téléphone (places limitées) : manon@centremalraux.com / 03 83 56 84 24
URL:https://sites.ac-nancy-metz.fr/histoire-des-arts/event/decouverte-du-ccam-et-rencontre-avec-un-artiste-un-apres-midi-musical-special-enseignants/
LOCATION:CCAM Scène Nationale\, Esplanade Jack Ralite\, 3 Rue de Parme\, Vandoeuvre-les-Nancy\, 54500\, France
ATTACH;FMTTYPE=image/png:https://sites.ac-nancy-metz.fr/histoire-des-arts/wp-content/uploads/2025/10/2ec6d334-bb6c-d98e-3abd-88ff7299c8d0.png
END:VEVENT
BEGIN:VEVENT
DTSTART;TZID=Europe/Paris:20251112T181500
DTEND;TZID=Europe/Paris:20251112T194500
DTSTAMP:20260422T055937
CREATED:20251024T122102Z
LAST-MODIFIED:20251024T122621Z
UID:791-1762971300-1762976700@sites.ac-nancy-metz.fr
SUMMARY:Conférence : "Ceci n’est pas une conférence sur l’Art Déco (mais quand même)"
DESCRIPTION:Cycle de conférences « Fans d’art »\, en partenariat avec l’association Emmanuel Héré\, dans le cadre de l’exposition « Nancy 1925. Une expérience de la vie moderne ». \nIntervention tenue par Claire Berthommier et Kenza-Marie Safraoui\, commissaires de l’exposition. \n\n\n\nL’Exposition internationale des arts décoratifs et industriels modernes organisée à Paris en 1925 avait pour ambition d’exprimer le dynamisme et l’excellence de la création française au sein de pavillons industriels\, artistiques ou régionaux. C’est en plein cœur de cette manifestation\, sur l’esplanade des Invalides\, qu’est installé le Pavillon de Nancy et de l’Est de la France. Édifié par les architectes Pierre Le Bourgeois et Jean Bourgon face au pavillon de Lyon-Saint-Étienne\, le pavillon nancéien met en scène la puissance économique de la région à travers\, notamment\, ses industries d’art les plus réputées. Incarnées par une génération d’artistes qui\, avec Émile Gallé et l’École de Nancy\, ont renouvelé les arts décoratifs au tournant du XXe siècle\, elles sont incarnées par les productions de Louis Majorelle\, la manufacture Daum\, Jacques Gruber ou encore Victor Prouvé.\n\n\nCycle de 6 conférences: Plein tarif: 25 €\, réduit: 20 €\, gratuit pour les étudiants et les moins de 26 ans.
URL:https://sites.ac-nancy-metz.fr/histoire-des-arts/event/conference-ceci-nest-pas-une-conference-sur-lart-deco-mais-quand-meme/
LOCATION:Musée des Beaux-Arts\, 1 rue Gustave Simon\, NANCY\, 54000\, France
ATTACH;FMTTYPE=image/jpeg:https://sites.ac-nancy-metz.fr/histoire-des-arts/wp-content/uploads/2025/10/ORIGINE_M_68b19428a6950.jpeg
END:VEVENT
END:VCALENDAR