BEGIN:VCALENDAR
VERSION:2.0
PRODID:-//HISTOIRE DES ARTS - ECPv6.15.20//NONSGML v1.0//EN
CALSCALE:GREGORIAN
METHOD:PUBLISH
X-WR-CALNAME:HISTOIRE DES ARTS
X-ORIGINAL-URL:https://sites.ac-nancy-metz.fr/histoire-des-arts
X-WR-CALDESC:Évènements pour HISTOIRE DES ARTS
REFRESH-INTERVAL;VALUE=DURATION:PT1H
X-Robots-Tag:noindex
X-PUBLISHED-TTL:PT1H
BEGIN:VTIMEZONE
TZID:Europe/Paris
BEGIN:DAYLIGHT
TZOFFSETFROM:+0100
TZOFFSETTO:+0200
TZNAME:CEST
DTSTART:20240331T010000
END:DAYLIGHT
BEGIN:STANDARD
TZOFFSETFROM:+0200
TZOFFSETTO:+0100
TZNAME:CET
DTSTART:20241027T010000
END:STANDARD
BEGIN:DAYLIGHT
TZOFFSETFROM:+0100
TZOFFSETTO:+0200
TZNAME:CEST
DTSTART:20250330T010000
END:DAYLIGHT
BEGIN:STANDARD
TZOFFSETFROM:+0200
TZOFFSETTO:+0100
TZNAME:CET
DTSTART:20251026T010000
END:STANDARD
BEGIN:DAYLIGHT
TZOFFSETFROM:+0100
TZOFFSETTO:+0200
TZNAME:CEST
DTSTART:20260329T010000
END:DAYLIGHT
BEGIN:STANDARD
TZOFFSETFROM:+0200
TZOFFSETTO:+0100
TZNAME:CET
DTSTART:20261025T010000
END:STANDARD
END:VTIMEZONE
BEGIN:VEVENT
DTSTART;TZID=Europe/Paris:20251113T181500
DTEND;TZID=Europe/Paris:20251113T194500
DTSTAMP:20260422T055936
CREATED:20251106T194436Z
LAST-MODIFIED:20251106T194436Z
UID:845-1763057700-1763063100@sites.ac-nancy-metz.fr
SUMMARY:Visite réservée aux enseignants de l'exposition "Nancy 1925\, une expérience de la vie moderne" au Musée des Beaux-Arts de Nancy
DESCRIPTION:Cent ans après l’Exposition internationale des arts décoratifs et industriels modernes de Paris en 1925\, l’exposition « Nancy 1925. Une expérience de la vie moderne »\, se propose de resituer la genèse et les développements de l’Art déco et des modernités à Nancy dans l’entre-deux-guerres. \nVisite privilège enseignants : jeudi 13 novembre 2025 à 18h15 \,par Claire Berthommier\, Responsable des collections du musée de l’Ecole de Nancy\, co-commissaire de l’exposition. \nOffre réservée aux enseignants\, nombre de places limité \nGratuit\, sur réservation auprès du Service des Publics de NANCY-MUSEES  \n(merci de préciser votre établissement ainsi qu’un n° de tel pour vous joindre en cas de pb). \nresa.nancymusees@mairie-nancy.fr \n03.83.85.30.01 (de 9h à 12h30)\n\n\n\n 
URL:https://sites.ac-nancy-metz.fr/histoire-des-arts/event/visite-reservee-aux-enseignants-de-lexposition-nancy-1925-une-experience-de-la-vie-moderne-au-musee-des-beaux-arts-de-nancy/
LOCATION:Musée des Beaux-Arts\, 1 rue Gustave Simon\, NANCY\, 54000\, France
ATTACH;FMTTYPE=image/jpeg:https://sites.ac-nancy-metz.fr/histoire-des-arts/wp-content/uploads/2025/11/SF3ED4dejb7v.jpg
END:VEVENT
END:VCALENDAR