BEGIN:VCALENDAR
VERSION:2.0
PRODID:-//HISTOIRE DES ARTS - ECPv6.15.20//NONSGML v1.0//EN
CALSCALE:GREGORIAN
METHOD:PUBLISH
X-ORIGINAL-URL:https://sites.ac-nancy-metz.fr/histoire-des-arts
X-WR-CALDESC:Évènements pour HISTOIRE DES ARTS
REFRESH-INTERVAL;VALUE=DURATION:PT1H
X-Robots-Tag:noindex
X-PUBLISHED-TTL:PT1H
BEGIN:VTIMEZONE
TZID:Europe/Paris
BEGIN:DAYLIGHT
TZOFFSETFROM:+0100
TZOFFSETTO:+0200
TZNAME:CEST
DTSTART:20250330T010000
END:DAYLIGHT
BEGIN:STANDARD
TZOFFSETFROM:+0200
TZOFFSETTO:+0100
TZNAME:CET
DTSTART:20251026T010000
END:STANDARD
BEGIN:DAYLIGHT
TZOFFSETFROM:+0100
TZOFFSETTO:+0200
TZNAME:CEST
DTSTART:20260329T010000
END:DAYLIGHT
BEGIN:STANDARD
TZOFFSETFROM:+0200
TZOFFSETTO:+0100
TZNAME:CET
DTSTART:20261025T010000
END:STANDARD
BEGIN:DAYLIGHT
TZOFFSETFROM:+0100
TZOFFSETTO:+0200
TZNAME:CEST
DTSTART:20270328T010000
END:DAYLIGHT
BEGIN:STANDARD
TZOFFSETFROM:+0200
TZOFFSETTO:+0100
TZNAME:CET
DTSTART:20271031T010000
END:STANDARD
END:VTIMEZONE
BEGIN:VEVENT
DTSTART;TZID=Europe/Paris:20260129T201500
DTEND;TZID=Europe/Paris:20260129T230000
DTSTAMP:20260422T013954
CREATED:20260104T181733Z
LAST-MODIFIED:20260104T181749Z
UID:886-1769717700-1769727600@sites.ac-nancy-metz.fr
SUMMARY:Ciné-débat : "Loulou" de Georg Wilhelm Pabst\, 1929
DESCRIPTION:Un cycle de ciné-débat vous est proposé en collaboration avec le cinéma Caméo Commanderie dans le cadre de l’exposition Nancy 1925. Une expérience de la vie moderne au Musée des Beaux-Arts de Nancy.\nEn présence d’Aurore Renaut\, historienne du cinéma\, directrice de l’Institut Européen de Cinéma et d’Audiovisuel (IECA). \n\n\n\n\nEn partenariat avec le Goethe-Institut Nancy.\n\n\nEntrée payante
URL:https://sites.ac-nancy-metz.fr/histoire-des-arts/event/cine-debat-loulou-de-georg-wilhelm-pabst-1929/
LOCATION:Cinéma Caméo Commanderie\, 16 rue de la Commanderie\, NANCY\, 54000
ATTACH;FMTTYPE=image/jpeg:https://sites.ac-nancy-metz.fr/histoire-des-arts/wp-content/uploads/2026/01/loulou.jpg
END:VEVENT
END:VCALENDAR