BEGIN:VCALENDAR
VERSION:2.0
PRODID:-//HISTOIRE DES ARTS - ECPv6.15.20//NONSGML v1.0//EN
CALSCALE:GREGORIAN
METHOD:PUBLISH
X-WR-CALNAME:HISTOIRE DES ARTS
X-ORIGINAL-URL:https://sites.ac-nancy-metz.fr/histoire-des-arts
X-WR-CALDESC:Évènements pour HISTOIRE DES ARTS
REFRESH-INTERVAL;VALUE=DURATION:PT1H
X-Robots-Tag:noindex
X-PUBLISHED-TTL:PT1H
BEGIN:VTIMEZONE
TZID:Europe/Paris
BEGIN:DAYLIGHT
TZOFFSETFROM:+0100
TZOFFSETTO:+0200
TZNAME:CEST
DTSTART:20250330T010000
END:DAYLIGHT
BEGIN:STANDARD
TZOFFSETFROM:+0200
TZOFFSETTO:+0100
TZNAME:CET
DTSTART:20251026T010000
END:STANDARD
BEGIN:DAYLIGHT
TZOFFSETFROM:+0100
TZOFFSETTO:+0200
TZNAME:CEST
DTSTART:20260329T010000
END:DAYLIGHT
BEGIN:STANDARD
TZOFFSETFROM:+0200
TZOFFSETTO:+0100
TZNAME:CET
DTSTART:20261025T010000
END:STANDARD
BEGIN:DAYLIGHT
TZOFFSETFROM:+0100
TZOFFSETTO:+0200
TZNAME:CEST
DTSTART:20270328T010000
END:DAYLIGHT
BEGIN:STANDARD
TZOFFSETFROM:+0200
TZOFFSETTO:+0100
TZNAME:CET
DTSTART:20271031T010000
END:STANDARD
END:VTIMEZONE
BEGIN:VEVENT
DTSTART;TZID=Europe/Paris:20260204T181500
DTEND;TZID=Europe/Paris:20260204T200000
DTSTAMP:20260422T013832
CREATED:20260104T181410Z
LAST-MODIFIED:20260104T182209Z
UID:884-1770228900-1770235200@sites.ac-nancy-metz.fr
SUMMARY:Conférence : "Points\, lignes\, plans: l'année 1925 et les origines de la Nouvelle Typographie"
DESCRIPTION:Cycle de conférences « Fans d’art »\, en partenariat avec l’association Emmanuel Héré\, dans le cadre de l’exposition « Nancy 1925. Une expérience de la vie moderne ». \nIntervention tenue par Thomas Huot-Marchand\, designer et typographe\, directeur de l’Atelier national de recherche typographique (ANRT – ENSAD Nancy). \n  \n10 euros\, gratuit pour les étudiants et les moins de 26 ans.
URL:https://sites.ac-nancy-metz.fr/histoire-des-arts/event/conference-points-lignes-plans-lannee-1925-et-les-origines-de-la-nouvelle-typographie/
LOCATION:Musée des Beaux-Arts\, 1 rue Gustave Simon\, NANCY\, 54000\, France
ATTACH;FMTTYPE=image/jpeg:https://sites.ac-nancy-metz.fr/histoire-des-arts/wp-content/uploads/2025/10/ORIGINE_M_68b19428a6950.jpeg
END:VEVENT
END:VCALENDAR