BEGIN:VCALENDAR
VERSION:2.0
PRODID:-//HISTOIRE DES ARTS - ECPv6.15.20//NONSGML v1.0//EN
CALSCALE:GREGORIAN
METHOD:PUBLISH
X-ORIGINAL-URL:https://sites.ac-nancy-metz.fr/histoire-des-arts
X-WR-CALDESC:Évènements pour HISTOIRE DES ARTS
REFRESH-INTERVAL;VALUE=DURATION:PT1H
X-Robots-Tag:noindex
X-PUBLISHED-TTL:PT1H
BEGIN:VTIMEZONE
TZID:Europe/Paris
BEGIN:DAYLIGHT
TZOFFSETFROM:+0100
TZOFFSETTO:+0200
TZNAME:CEST
DTSTART:20250330T010000
END:DAYLIGHT
BEGIN:STANDARD
TZOFFSETFROM:+0200
TZOFFSETTO:+0100
TZNAME:CET
DTSTART:20251026T010000
END:STANDARD
BEGIN:DAYLIGHT
TZOFFSETFROM:+0100
TZOFFSETTO:+0200
TZNAME:CEST
DTSTART:20260329T010000
END:DAYLIGHT
BEGIN:STANDARD
TZOFFSETFROM:+0200
TZOFFSETTO:+0100
TZNAME:CET
DTSTART:20261025T010000
END:STANDARD
BEGIN:DAYLIGHT
TZOFFSETFROM:+0100
TZOFFSETTO:+0200
TZNAME:CEST
DTSTART:20270328T010000
END:DAYLIGHT
BEGIN:STANDARD
TZOFFSETFROM:+0200
TZOFFSETTO:+0100
TZNAME:CET
DTSTART:20271031T010000
END:STANDARD
END:VTIMEZONE
BEGIN:VEVENT
DTSTART;TZID=Europe/Paris:20260205T164500
DTEND;TZID=Europe/Paris:20260205T180000
DTSTAMP:20260422T014037
CREATED:20260202T162826Z
LAST-MODIFIED:20260202T162832Z
UID:908-1770309900-1770314400@sites.ac-nancy-metz.fr
SUMMARY:Hussein Nassereddine en conférence à l'ÉSAL Metz
DESCRIPTION:Artiste multidisciplinaire mêlant installation\, écriture\, vidéo et performance\, Hussein Nassereddine s’intéresse aux récits collectifs\, à la poésie et au langage. Il développe ce qu’il appelle des « monuments fragiles »\, sensibles\, verbaux ou tactiles. L’artiste présentera sa pratique artistique et ses liens avec diverses formes d’écriture à partir d’une sélection d’œuvres récentes\, dont celles présentées actuellement dans l’exposition Paroles\, Paroles au CAC Synagogue de Delme. \nJeudi 5 février 2026 à 16h45\nÉSAL Metz\, 1\, rue de la Citadelle\, 57000 Metz\nEntrée gratuite.  \nCet événement est organisé en partenariat entre le CAC Synagogue de Delme et l’ÉSAL Metz dans le cadre de la journée d’étude : « Écriture à l’œuvre ». \nOrganisée par l’Institut Page\, le laboratoire des recherches textuelles et éditoriales de l’ÉSAL\, cette journée d’étude explore les liens entre écriture\, édition et pratiques artistiques. Pour prolonger les questions liées à l’écriture du mémoire\, une réflexion collective sur les formes de recherche en école d’art sera abordée :  Comment écrire en école d’art ? Comment penser le texte comme geste artistique ? Quelles formes éditoriales\, spatiales ou narratives pour la recherche en art ? \nÀ travers les conférences de quatre invités\, Garance Dor\, Hélène Laurain\, Helene Marian et Hussein Nassereddine\, il sera question d’interroger les formes textuelles et éditoriales de la recherche et de l’écriture en art\, ainsi que leurs inscriptions dans l’espace du livre\, de l’exposition et de la conférence.
URL:https://sites.ac-nancy-metz.fr/histoire-des-arts/event/hussein-nassereddine-en-conference-a-lesal-metz/
ATTACH;FMTTYPE=image/jpeg:https://sites.ac-nancy-metz.fr/histoire-des-arts/wp-content/uploads/2026/02/ECOLE_ART_LORRAINE_2Regular-scaled.jpg
END:VEVENT
END:VCALENDAR