BEGIN:VCALENDAR
VERSION:2.0
PRODID:-//HISTOIRE DES ARTS - ECPv6.15.20//NONSGML v1.0//EN
CALSCALE:GREGORIAN
METHOD:PUBLISH
X-ORIGINAL-URL:https://sites.ac-nancy-metz.fr/histoire-des-arts
X-WR-CALDESC:Évènements pour HISTOIRE DES ARTS
REFRESH-INTERVAL;VALUE=DURATION:PT1H
X-Robots-Tag:noindex
X-PUBLISHED-TTL:PT1H
BEGIN:VTIMEZONE
TZID:Europe/Paris
BEGIN:DAYLIGHT
TZOFFSETFROM:+0100
TZOFFSETTO:+0200
TZNAME:CEST
DTSTART:20250330T010000
END:DAYLIGHT
BEGIN:STANDARD
TZOFFSETFROM:+0200
TZOFFSETTO:+0100
TZNAME:CET
DTSTART:20251026T010000
END:STANDARD
BEGIN:DAYLIGHT
TZOFFSETFROM:+0100
TZOFFSETTO:+0200
TZNAME:CEST
DTSTART:20260329T010000
END:DAYLIGHT
BEGIN:STANDARD
TZOFFSETFROM:+0200
TZOFFSETTO:+0100
TZNAME:CET
DTSTART:20261025T010000
END:STANDARD
BEGIN:DAYLIGHT
TZOFFSETFROM:+0100
TZOFFSETTO:+0200
TZNAME:CEST
DTSTART:20270328T010000
END:DAYLIGHT
BEGIN:STANDARD
TZOFFSETFROM:+0200
TZOFFSETTO:+0100
TZNAME:CET
DTSTART:20271031T010000
END:STANDARD
END:VTIMEZONE
BEGIN:VEVENT
DTSTART;TZID=Europe/Paris:20260212T183000
DTEND;TZID=Europe/Paris:20260212T193000
DTSTAMP:20260422T014036
CREATED:20260206T080528Z
LAST-MODIFIED:20260206T080945Z
UID:911-1770921000-1770924600@sites.ac-nancy-metz.fr
SUMMARY:Conférence "Le mur de l'atelier d'André Breton\, 1922-1966"
DESCRIPTION:Conférence\n\n\n\n\n« Le mur de l’atelier d’André Breton\, 1922-1966 »\n\n\n\nPar Aurélie Verdier\, conservatrice au Centre Pompidou\n\n\n\n\n\n\n\nAuditorium Wendel du Centre Pompidou-Metz \n\n\n\n\n\n\n\n\n5 € (Gratuit pour les adhérents Pass-M\, Pass-M SOLO\, DUO & Jeune) \n\n\n\n\n\n\n« Aimer d’abord. Il sera toujours temps\, ensuite\, de s’interroger sur ce qu’on aime jusqu’à n’en plus vouloir rien ignorer » écrivait André Breton. Le mur de l’atelier du 42 rue Fontaine\, lieu de vie et d’écriture du fondateur du mouvement surréaliste\, est entré au Musée national d’art moderne en 2003. Le temps était venu de lever un peu du voile sur ce « mur » d’objets hétérogènes : objets d’Océanie\, des Amériques\, art moderne\, art populaire\, objets naturels\, pièces majeures ou bibelots.\nLe musée\, cette institution occidentale\, inventée au XVIIIe siècle dans le sillage des Chambres des Merveilles de la fin du XVIe siècle\, opère un déplacement fondamental de signification du statut des objets qu’il a pour vocation de conserver\, d’étudier et d’exposer au public. Écho de plusieurs projets modernistes des années 1920 et après\, l’atelier d’André Breton ouvre une « porte dérobée » qui nous fait « parvenir au cœur de la nature humaine »\, (Siegfried Kracauer) avec ses fulgurances et ses ambiguïtés.
URL:https://sites.ac-nancy-metz.fr/histoire-des-arts/event/conference-le-mur-de-latelier-dandre-breton-1922-1966/
LOCATION:centre pompidou Metz\, 1 Parvis des Droits de l'Homme\, METZ\, 57000\, France
ATTACH;FMTTYPE=image/png:https://sites.ac-nancy-metz.fr/histoire-des-arts/wp-content/uploads/2025/05/Logo_du_Centre_Pompidou-Metz.png
END:VEVENT
BEGIN:VEVENT
DTSTART;TZID=Europe/Paris:20260212T201500
DTEND;TZID=Europe/Paris:20260212T230000
DTSTAMP:20260422T014036
CREATED:20260104T182024Z
LAST-MODIFIED:20260104T182024Z
UID:889-1770927300-1770937200@sites.ac-nancy-metz.fr
SUMMARY:Ciné-débat : "L'Inhumaine" de Marcel L'Herbier\, 1924
DESCRIPTION:Un cycle de ciné-débat vous est proposé en collaboration avec le cinéma Caméo Commanderie dans le cadre de l’exposition Nancy 1925. Une expérience de la vie moderne au Musée des Beaux-Arts de Nancy.\nEn présence de Marion Polirsztok\, historienne du cinéma\, maîtresse de conférences en études cinématographiques à l’université Rennes 2. \n  \nProjection payante.
URL:https://sites.ac-nancy-metz.fr/histoire-des-arts/event/cine-debat-linhumaine-de-marcel-lherbier-1924/
LOCATION:Cinéma Caméo Commanderie\, 16 rue de la Commanderie\, NANCY\, 54000
ATTACH;FMTTYPE=image/jpeg:https://sites.ac-nancy-metz.fr/histoire-des-arts/wp-content/uploads/2026/01/Linhumaine_film1924.jpg
END:VEVENT
END:VCALENDAR