BEGIN:VCALENDAR
VERSION:2.0
PRODID:-//HISTOIRE DES ARTS - ECPv6.15.20//NONSGML v1.0//EN
CALSCALE:GREGORIAN
METHOD:PUBLISH
X-WR-CALNAME:HISTOIRE DES ARTS
X-ORIGINAL-URL:https://sites.ac-nancy-metz.fr/histoire-des-arts
X-WR-CALDESC:Évènements pour HISTOIRE DES ARTS
REFRESH-INTERVAL;VALUE=DURATION:PT1H
X-Robots-Tag:noindex
X-PUBLISHED-TTL:PT1H
BEGIN:VTIMEZONE
TZID:Europe/Paris
BEGIN:DAYLIGHT
TZOFFSETFROM:+0100
TZOFFSETTO:+0200
TZNAME:CEST
DTSTART:20250330T010000
END:DAYLIGHT
BEGIN:STANDARD
TZOFFSETFROM:+0200
TZOFFSETTO:+0100
TZNAME:CET
DTSTART:20251026T010000
END:STANDARD
BEGIN:DAYLIGHT
TZOFFSETFROM:+0100
TZOFFSETTO:+0200
TZNAME:CEST
DTSTART:20260329T010000
END:DAYLIGHT
BEGIN:STANDARD
TZOFFSETFROM:+0200
TZOFFSETTO:+0100
TZNAME:CET
DTSTART:20261025T010000
END:STANDARD
BEGIN:DAYLIGHT
TZOFFSETFROM:+0100
TZOFFSETTO:+0200
TZNAME:CEST
DTSTART:20270328T010000
END:DAYLIGHT
BEGIN:STANDARD
TZOFFSETFROM:+0200
TZOFFSETTO:+0100
TZNAME:CET
DTSTART:20271031T010000
END:STANDARD
END:VTIMEZONE
BEGIN:VEVENT
DTSTART;TZID=Europe/Paris:20260425T143000
DTEND;TZID=Europe/Paris:20260425T160000
DTSTAMP:20260422T013831
CREATED:20260416T171038Z
LAST-MODIFIED:20260416T171038Z
UID:1002-1777127400-1777132800@sites.ac-nancy-metz.fr
SUMMARY:Conférence « Être femme dans l’art : de la muse à l’artiste\, réappropriation du corps et de la création »
DESCRIPTION:Conférence\n« Être femme dans l’art : de la muse à l’artiste\, réappropriation du corps et de la création »\n\n\n\n\n\n\n\n\npar Lucile Girardet\, Doctorante en arts plastiques au CREM\, à l’Université de Lorraine\n\n\n\n\n\n\n\n\n\n\n\n\n\nMusée de La Cour d’Or de Metz \ngratuit\, sur réservation \n\n\n\n\n\n\n\n\nLa présence des femmes dans l’art n’est pas anodine\, car porteuse d’une longue historicité. D’abord utilisées comme modèles\, elles ont peu à peu pénétré les espaces créatifs\, afin de montrer leurs savoirfaire et porter leurs voix\, sur de nombreuses thématiques. Parmi elles\, la représentation du corps féminin\, qui entre les mains des artistes femmes a pu s’émanciper du regard masculin pour aller vers une illustration plus juste de la réalité et soulever de nombreuses problématiques sociales en s’imposant notamment dans le mouvement de l’art féministe dans les années 60 et 70. Cette conférence se propose alors d’être une rétrospective de ces diverses étapes de l’histoire de l’art où les femmes ont ainsi pu affirmer leur place en tant qu’artistes\, jusqu’à leur place actuelle au sein de l’art corporel contemporain.
URL:https://sites.ac-nancy-metz.fr/histoire-des-arts/event/conference-etre-femme-dans-lart-de-la-muse-a-lartiste-reappropriation-du-corps-et-de-la-creation/
LOCATION:Musée de la Cour d’Or\, Grenier de Chèvremont 22 Rue Chèvremont\, METZ\, 57000\, France
ATTACH;FMTTYPE=image/png:https://sites.ac-nancy-metz.fr/histoire-des-arts/wp-content/uploads/2026/04/Logo_Musee_de_la_Cour_dOr.svg_.png
END:VEVENT
END:VCALENDAR