BEGIN:VCALENDAR
VERSION:2.0
PRODID:-//HISTOIRE DES ARTS - ECPv6.15.20//NONSGML v1.0//EN
CALSCALE:GREGORIAN
METHOD:PUBLISH
X-WR-CALNAME:HISTOIRE DES ARTS
X-ORIGINAL-URL:https://sites.ac-nancy-metz.fr/histoire-des-arts
X-WR-CALDESC:Évènements pour HISTOIRE DES ARTS
REFRESH-INTERVAL;VALUE=DURATION:PT1H
X-Robots-Tag:noindex
X-PUBLISHED-TTL:PT1H
BEGIN:VTIMEZONE
TZID:Europe/Paris
BEGIN:DAYLIGHT
TZOFFSETFROM:+0100
TZOFFSETTO:+0200
TZNAME:CEST
DTSTART:20240331T010000
END:DAYLIGHT
BEGIN:STANDARD
TZOFFSETFROM:+0200
TZOFFSETTO:+0100
TZNAME:CET
DTSTART:20241027T010000
END:STANDARD
BEGIN:DAYLIGHT
TZOFFSETFROM:+0100
TZOFFSETTO:+0200
TZNAME:CEST
DTSTART:20250330T010000
END:DAYLIGHT
BEGIN:STANDARD
TZOFFSETFROM:+0200
TZOFFSETTO:+0100
TZNAME:CET
DTSTART:20251026T010000
END:STANDARD
BEGIN:DAYLIGHT
TZOFFSETFROM:+0100
TZOFFSETTO:+0200
TZNAME:CEST
DTSTART:20260329T010000
END:DAYLIGHT
BEGIN:STANDARD
TZOFFSETFROM:+0200
TZOFFSETTO:+0100
TZNAME:CET
DTSTART:20261025T010000
END:STANDARD
END:VTIMEZONE
BEGIN:VEVENT
DTSTART;TZID=Europe/Paris:20250602T180000
DTEND;TZID=Europe/Paris:20250602T200000
DTSTAMP:20260422T120750
CREATED:20250506T173405Z
LAST-MODIFIED:20250523T200851Z
UID:370-1748887200-1748894400@sites.ac-nancy-metz.fr
SUMMARY:Présentation de saison enseignante 2025-2026 au CCAM / Scène Nationale de Vandœuvre
DESCRIPTION:Chers enseignants\, \nla saison n’est pas encore terminée\, mais toute l’équipe travaille déjà avec enthousiasme au lancement de la programmation 25/26 ! \nC’est pourquoi j’ai le plaisir de vous convier à une présentation de saison spécialement dédiée aux établissements du secondaire et du supérieur. \nLundi 02 juin\n18h00 au CCAM\nEsplanade Jack Ralite\,\n3 rue de Parme\n54500 Vandœuvre-lès-Nancy \nCe rendez-vous sera l’occasion de nous retrouver ou bien encore de faire connaissance.\nÀ nous de construire ensemble des parcours sur-mesure autour des propositions artistiques de la saison ! \nPour vous inscrire\, remplissez ce formulaire. \nManon Albizzati\nChargée des relations avec les publics scolaires et universitaires\nCCAM/ Scène Nationale de Vandœuvre\nmanon@centremalraux.com \n03 83 56 84 24
URL:https://sites.ac-nancy-metz.fr/histoire-des-arts/event/presentation-de-saison-enseignante-2025-2026-au-ccam-scene-nationale-de-vandoeuvre/
ATTACH;FMTTYPE=image/webp:https://sites.ac-nancy-metz.fr/histoire-des-arts/wp-content/uploads/2025/05/ccam-2022_vertical_noir.png.webp
END:VEVENT
BEGIN:VEVENT
DTSTART;TZID=Europe/Paris:20250603T200000
DTEND;TZID=Europe/Paris:20250603T230000
DTSTAMP:20260422T120750
CREATED:20250523T202346Z
LAST-MODIFIED:20250523T202346Z
UID:533-1748980800-1748991600@sites.ac-nancy-metz.fr
SUMMARY:Ciné-débat : Monuments Men
DESCRIPTION:Projection du film Monuments men de George Clooney (2014)\, suivie d’un échange avec Laurent Jalabert\, historien\, maître de conférences à l’Université de Lorraine. \nDans le cadre du cycle de ciné-débats qui vous est proposé en collaboration avec le Musée des Beaux-Arts\ndans le cadre de l’exposition-dossier «Récits décoloniaux. Faut-il brûler les musées ?» \nEn partenariat avec le Musée des Beaux-Arts\, le Département de Meurthe-et-Moselle et le Goethe Institut \nAu cinéma Caméo Saint-Sébastien\, à Nancy. \nProjection payante.
URL:https://sites.ac-nancy-metz.fr/histoire-des-arts/event/cine-debat-monuments-men/
ATTACH;FMTTYPE=image/jpeg:https://sites.ac-nancy-metz.fr/histoire-des-arts/wp-content/uploads/2025/05/10197ceb5498f504b5f116d1cbbd22f9.jpeg
END:VEVENT
BEGIN:VEVENT
DTSTART;TZID=Europe/Paris:20250604T170000
DTEND;TZID=Europe/Paris:20250604T180000
DTSTAMP:20260422T120750
CREATED:20250506T172709Z
LAST-MODIFIED:20250513T050725Z
UID:366-1749056400-1749060000@sites.ac-nancy-metz.fr
SUMMARY:Présentation aux enseignants de la saison lyrique et symphonique 2025-2026 de l'Opéra national de Nancy-Lorraine
DESCRIPTION:Matthieu Dussouillez\, Directeur général de l’Opéra national de Nancy-Lorraine\, a le plaisir de vous convier à la présentation aux enseignants de la saison lyrique et symphonique 2025-2026. \nMercredi 4 juin à 17h \nau Foyer public \n(entrée Place Stanislas) \nInvitation sur réservation par mail : action.culturelle@opera-national-lorraine.fr \nSous réserve de places disponibles \nDurée : 1h
URL:https://sites.ac-nancy-metz.fr/histoire-des-arts/event/366/
ATTACH;FMTTYPE=image/png:https://sites.ac-nancy-metz.fr/histoire-des-arts/wp-content/uploads/2025/05/Capture-decran-2025-05-13-070610.png
END:VEVENT
BEGIN:VEVENT
DTSTART;VALUE=DATE:20250607
DTEND;VALUE=DATE:20250609
DTSTAMP:20260422T120750
CREATED:20250524T073250Z
LAST-MODIFIED:20250524T073406Z
UID:537-1749254400-1749427199@sites.ac-nancy-metz.fr
SUMMARY:Journées de l'Art Nouveau 2025 à Nancy
DESCRIPTION:Evénement au Musée des Beaux-Arts\, au Musée de l’Ecole de Nancy et à la Villa Majorelle. \nUn week-end complet de fête conviviale pour honorer l’Art nouveau nancéien autour du thème de la couleur. \nL’occasion de découvrir la nouvelle exposition du Musée de l’Ecole de Nancy : Sous le signe de la modernité. La Maison Corbin et les Magasins Réunis dans les années 1920 \nLe musée de l’École de Nancy est installé dans l’ancienne maison d’Eugène Corbin\, agrandie en 1922 dans un style Art déco. C’est cette même voie qu’il choisit pour la reconstruction des Magasins Réunis de Nancy en 1926. Des documents et éléments de décor de l’aile 1920 de la maison sont associés aux outils publicitaires et aux objets édités par les Arts Réunis de cette époque. \nProgrammation détaillée
URL:https://sites.ac-nancy-metz.fr/histoire-des-arts/event/journees-de-lart-nouveau-2025-a-nancy/
ATTACH;FMTTYPE=image/png:https://sites.ac-nancy-metz.fr/histoire-des-arts/wp-content/uploads/2025/05/Capture-decran-2025-05-24-093227.png
END:VEVENT
BEGIN:VEVENT
DTSTART;TZID=Europe/Paris:20250611T183000
DTEND;TZID=Europe/Paris:20250611T200000
DTSTAMP:20260422T120750
CREATED:20250506T170628Z
LAST-MODIFIED:20250506T185258Z
UID:361-1749666600-1749672000@sites.ac-nancy-metz.fr
SUMMARY:Lancement de saison 2025/2026 au Centre Pompidou-Metz
DESCRIPTION:LANCEMENT DE SAISON 2025/2026\n\nRetenez cette date !\nMercredi 11 juin 2025 à 18h30 au Centre Pompidou-Metz\n\nTout savoir sur la programmation à venir ! Un lancement de saison est prévu le mercredi 11 juin 2025 à 18h30 dans l’Auditorium Wendel du Centre Pompidou-Metz. Ce sera l’occasion de découvrir la programmation 2025/2026 et de présenter les projets d’éducation artistique et culturelle\, présents et à venir.\nUne collation sera prévue en fin de séance pour échanger\, discuter\, faire connaissance.\n\nPour s’inscrire : envoyer un mail à Anne Oster\, chargée des actions éducatives et de médiation en précisant le nom de votre établissement et votre niveau de classe.\nanne.oster@centrepompidou-metz.fr
URL:https://sites.ac-nancy-metz.fr/histoire-des-arts/event/lancement-de-saison-2025-2026-au-centre-pompidou-metz/
ATTACH;FMTTYPE=image/jpeg:https://sites.ac-nancy-metz.fr/histoire-des-arts/wp-content/uploads/2025/05/Pompidou22.jpg
END:VEVENT
BEGIN:VEVENT
DTSTART;TZID=Europe/Paris:20250616T181500
DTEND;TZID=Europe/Paris:20250616T200000
DTSTAMP:20260422T120750
CREATED:20250523T200556Z
LAST-MODIFIED:20250523T201005Z
UID:526-1750097700-1750104000@sites.ac-nancy-metz.fr
SUMMARY:Présentation aux enseignants de la saison 2025-2026 du NEST - Centre dramatique national de Thionville
DESCRIPTION:Le NEST – Centre Dramatique National de Thionville Grand-Est vous donne rendez-vous le lundi 16 juin à 18h15\, à la NEST Home (3 rue des Ducs de Lorraine à Thionville)\, pour un temps de présentation de la saison 2025-2026. \nAu programme :\n– Présentation des spectacles proposés en temps scolaire et en soirée\n– Informations sur les tarifs et modalités d’inscription\n– Remise d’un document récapitulatif adapté aux différents niveaux de classe \nÀ l’issue de la rencontre\, les membres de l’équipe du NEST seront disponibles pour répondre à vos questions\, vous conseiller et vous accompagner dans vos choix\, autour d’un apéritif convivial. \nMerci de bien vouloir confirmer votre présence auprès de votre contact pour les représentations scolaires : \nRafika El Malagh\nChargée des relations avec les publics scolaires\nrafikaelmalagh@nest-theatre.fr\n+33 (0)6 58 66 26 86
URL:https://sites.ac-nancy-metz.fr/histoire-des-arts/event/presentation-aux-enseignants-de-la-saison-2025-2026-du-nest-centre-dramatique-national-de-thionville/
ATTACH;FMTTYPE=image/png:https://sites.ac-nancy-metz.fr/histoire-des-arts/wp-content/uploads/2025/05/logo_billetterie.png
END:VEVENT
BEGIN:VEVENT
DTSTART;TZID=Europe/Paris:20250616T190000
DTEND;TZID=Europe/Paris:20250616T210000
DTSTAMP:20260422T120750
CREATED:20250608T100940Z
LAST-MODIFIED:20250608T100940Z
UID:614-1750100400-1750107600@sites.ac-nancy-metz.fr
SUMMARY:Présentation de la saison 2025/26 du Théâtre de la Manufacture à Nancy
DESCRIPTION:RENDEZ-VOUS LUNDI 16 JUIN À 19H ! \n(10 rue Baron Louis – 54000 Nancy) \nDécouvrez les spectacles de cette nouvelle saison 25/26 en présence de nos nouvelles et nouveaux artistes associé-e-s\, Anne Barbot\, Maryse Estier\, Camille Perrin et Sacha Vilmar. \nLa présentation de saison sera suivie de Chicane\, performance musicale\, et un verre vous sera offert à l’issue dans le jardin du théâtre. \nsur réservation \nVous trouverez ci dessous : \n\nla brochure de présentation de saison en direction des enseignant.e.s : 2526presentationsecondairelight\nla plaquette de spectacle en itinérance scolaire : 2526_Itinérance_MilieuScolaire_compressed\n\nPar ailleurs\, un padlet réunit toutes les ressources en lien avec chaque spectacle. \n  \n 
URL:https://sites.ac-nancy-metz.fr/histoire-des-arts/event/presentation-de-la-saison-2025-26-du-theatre-de-la-manufacture-a-nancy/
ATTACH;FMTTYPE=image/jpeg:https://sites.ac-nancy-metz.fr/histoire-des-arts/wp-content/uploads/2025/06/telechargement-1.jpeg
END:VEVENT
END:VCALENDAR