BEGIN:VCALENDAR
VERSION:2.0
PRODID:-//HISTOIRE DES ARTS - ECPv6.15.20//NONSGML v1.0//EN
CALSCALE:GREGORIAN
METHOD:PUBLISH
X-WR-CALNAME:HISTOIRE DES ARTS
X-ORIGINAL-URL:https://sites.ac-nancy-metz.fr/histoire-des-arts
X-WR-CALDESC:Évènements pour HISTOIRE DES ARTS
REFRESH-INTERVAL;VALUE=DURATION:PT1H
X-Robots-Tag:noindex
X-PUBLISHED-TTL:PT1H
BEGIN:VTIMEZONE
TZID:Europe/Paris
BEGIN:DAYLIGHT
TZOFFSETFROM:+0100
TZOFFSETTO:+0200
TZNAME:CEST
DTSTART:20240331T010000
END:DAYLIGHT
BEGIN:STANDARD
TZOFFSETFROM:+0200
TZOFFSETTO:+0100
TZNAME:CET
DTSTART:20241027T010000
END:STANDARD
BEGIN:DAYLIGHT
TZOFFSETFROM:+0100
TZOFFSETTO:+0200
TZNAME:CEST
DTSTART:20250330T010000
END:DAYLIGHT
BEGIN:STANDARD
TZOFFSETFROM:+0200
TZOFFSETTO:+0100
TZNAME:CET
DTSTART:20251026T010000
END:STANDARD
BEGIN:DAYLIGHT
TZOFFSETFROM:+0100
TZOFFSETTO:+0200
TZNAME:CEST
DTSTART:20260329T010000
END:DAYLIGHT
BEGIN:STANDARD
TZOFFSETFROM:+0200
TZOFFSETTO:+0100
TZNAME:CET
DTSTART:20261025T010000
END:STANDARD
END:VTIMEZONE
BEGIN:VEVENT
DTSTART;TZID=Europe/Paris:20251008T140000
DTEND;TZID=Europe/Paris:20251008T160000
DTSTAMP:20260422T055844
CREATED:20250915T084340Z
LAST-MODIFIED:20250915T154740Z
UID:703-1759932000-1759939200@sites.ac-nancy-metz.fr
SUMMARY:Formation à l’exposition « Copistes » au Centre Pompidou-Metz
DESCRIPTION:Pour une meilleure compréhension et exploitation pédagogique de ses expositions\, le Centre Pompidou-Metz propose aux enseignants qui le souhaitent\, une formation à la visite de l’exposition « Copistes »\, dispensée par des professeurs relais (durée : 2h entre 14h et 16h). \nLes groupes sont constitués au maximum de 15 personnes. \nUn accueil est réservé près de la billetterie située à l’entrée du Centre Pompidou-Metz. \nLes enseignants doivent se munir de leur Pass Education.\nInscription auprès des professeurs relais : professeur.relais@centrepompidou-metz.fr.
URL:https://sites.ac-nancy-metz.fr/histoire-des-arts/event/formation-a-lexposition-copistes-au-centre-pompidou-metz-2/
ATTACH;FMTTYPE=image/jpeg:https://sites.ac-nancy-metz.fr/histoire-des-arts/wp-content/uploads/2025/09/36596.jpg
END:VEVENT
BEGIN:VEVENT
DTSTART;TZID=Europe/Paris:20251015T140000
DTEND;TZID=Europe/Paris:20251015T160000
DTSTAMP:20260422T055844
CREATED:20250915T085116Z
LAST-MODIFIED:20250915T154722Z
UID:712-1760536800-1760544000@sites.ac-nancy-metz.fr
SUMMARY:Formation à l'exposition "Dimanche sans fin" au Centre Pompidou-Metz
DESCRIPTION:Pour une meilleure compréhension et exploitation pédagogique de ses expositions\, le Centre Pompidou-Metz propose aux enseignants qui le souhaitent\, une formation à la visite de l’exposition « Dimanche sans fin »\, dispensée par des professeurs relais (durée : 2h entre 14h et 16h). \nLes groupes sont constitués au maximum de 15 personnes. \nUn accueil est réservé près de la billetterie située à l’entrée du Centre Pompidou-Metz. \nLes enseignants doivent se munir de leur Pass Education.\nInscription auprès des professeurs relais : professeur.relais@centrepompidou-metz.fr.
URL:https://sites.ac-nancy-metz.fr/histoire-des-arts/event/formation-a-lexposition-dimanche-sans-fin-au-centre-pompidou-metz-2/
ATTACH;FMTTYPE=image/jpeg:https://sites.ac-nancy-metz.fr/histoire-des-arts/wp-content/uploads/2025/05/495191710_1101494902019831_3601369829154056709_n.jpg
END:VEVENT
BEGIN:VEVENT
DTSTART;VALUE=DATE:20251016
DTEND;VALUE=DATE:20251020
DTSTAMP:20260422T055844
CREATED:20250925T173445Z
LAST-MODIFIED:20250925T173445Z
UID:746-1760572800-1760918399@sites.ac-nancy-metz.fr
SUMMARY:Journées nationales de l'architecture
DESCRIPTION:Les dixièmes Journées nationales de l’architecture auront lieu jeudi 16\, vendredi 17 (deux journées réservées plus particulièrement aux scolaires dans le cadre de l’opération « Levez les yeux ! »)\, samedi 18 et dimanche 19 octobre 2025. \nCes journées ont vocation à fédérer les initiatives qui contribuent à la découverte de l’architecture et de ses métiers auprès de tous les publics. \nLa thématique 2025 « Architectures du quotidien » met l’accent sur ces réalisations souvent perçues comme « banales » mais qui façonnent pourtant notre quotidien et le cadre de vie de chacun. \nL’ensemble de la programmation est à retrouver sur le site dédié.
URL:https://sites.ac-nancy-metz.fr/histoire-des-arts/event/journees-nationales-de-larchitecture/
ATTACH;FMTTYPE=image/jpeg:https://sites.ac-nancy-metz.fr/histoire-des-arts/wp-content/uploads/2025/09/JNA-2025_Infolettre_700x200px_v2.jpg
END:VEVENT
END:VCALENDAR