BEGIN:VCALENDAR
VERSION:2.0
PRODID:-//HISTOIRE DES ARTS - ECPv6.15.20//NONSGML v1.0//EN
CALSCALE:GREGORIAN
METHOD:PUBLISH
X-WR-CALNAME:HISTOIRE DES ARTS
X-ORIGINAL-URL:https://sites.ac-nancy-metz.fr/histoire-des-arts
X-WR-CALDESC:Évènements pour HISTOIRE DES ARTS
REFRESH-INTERVAL;VALUE=DURATION:PT1H
X-Robots-Tag:noindex
X-PUBLISHED-TTL:PT1H
BEGIN:VTIMEZONE
TZID:Europe/Paris
BEGIN:DAYLIGHT
TZOFFSETFROM:+0100
TZOFFSETTO:+0200
TZNAME:CEST
DTSTART:20250330T010000
END:DAYLIGHT
BEGIN:STANDARD
TZOFFSETFROM:+0200
TZOFFSETTO:+0100
TZNAME:CET
DTSTART:20251026T010000
END:STANDARD
BEGIN:DAYLIGHT
TZOFFSETFROM:+0100
TZOFFSETTO:+0200
TZNAME:CEST
DTSTART:20260329T010000
END:DAYLIGHT
BEGIN:STANDARD
TZOFFSETFROM:+0200
TZOFFSETTO:+0100
TZNAME:CET
DTSTART:20261025T010000
END:STANDARD
BEGIN:DAYLIGHT
TZOFFSETFROM:+0100
TZOFFSETTO:+0200
TZNAME:CEST
DTSTART:20270328T010000
END:DAYLIGHT
BEGIN:STANDARD
TZOFFSETFROM:+0200
TZOFFSETTO:+0100
TZNAME:CET
DTSTART:20271031T010000
END:STANDARD
END:VTIMEZONE
BEGIN:VEVENT
DTSTART;TZID=Europe/Paris:20260311T140000
DTEND;TZID=Europe/Paris:20260311T153000
DTSTAMP:20260421T223654
CREATED:20251105T170555Z
LAST-MODIFIED:20251106T193209Z
UID:815-1773237600-1773243000@sites.ac-nancy-metz.fr
SUMMARY:Formation à l'exposition "Dimanche sans fin" au Centre Pompidou-Metz
DESCRIPTION:Pour une meilleure compréhension et exploitation pédagogique de ses expositions\, le Centre Pompidou-Metz propose aux enseignants qui le souhaitent\, une formation à la visite de l’exposition « Dimanche sans fin »\, dispensée par des professeurs relais (durée : 1h30 entre 14h et 15h30).\nLes groupes sont constitués au maximum de 15 personnes.\nUn accueil est réservé près de la billetterie située à l’entrée du Centre Pompidou-Metz.\nLes enseignants doivent se munir de leur Pass Education.\nInscription auprès des professeurs relais : professeur.relais@centrepompidou-metz.fr.
URL:https://sites.ac-nancy-metz.fr/histoire-des-arts/event/formation-a-lexposition-dimanche-sans-fin-au-centre-pompidou-metz-5/
ATTACH;FMTTYPE=image/jpeg:https://sites.ac-nancy-metz.fr/histoire-des-arts/wp-content/uploads/2025/05/495191710_1101494902019831_3601369829154056709_n.jpg
END:VEVENT
BEGIN:VEVENT
DTSTART;TZID=Europe/Paris:20260311T183000
DTEND;TZID=Europe/Paris:20260311T193000
DTSTAMP:20260421T223654
CREATED:20260206T081501Z
LAST-MODIFIED:20260228T131158Z
UID:916-1773253800-1773257400@sites.ac-nancy-metz.fr
SUMMARY:Conférence "Maurizio Cattelan"
DESCRIPTION:Conférence\n\n\n\n\n« Maurizio Cattelan »\n\n\n\npar Roberta Tenconi\, chief curator du Hangar Bicocca à Milan\, et Chiara Parisi\, Directrice du Centre Pompidou-Metz\n\n\n\n\n\n\n\n\n\n\n\n\n\nAuditorium Wendel du Centre Pompidou-Metz \n\n\n\n\n\n\n\n\nCette conférence porte sur la parution exceptionnelle de deux ouvrages majeurs autour de l’artiste Maurizio Cattelan : Maurizio Cattelan. Beware of Yourself\, aux éditions Marsilio Arte\, sous la direction de Roberta Tenconi et Vicente Todolí et Dimanche sans fin. Maurizio Cattelan et la collection du Centre Pompidou\, aux éditions du Centre Pompidou-Metz\, sous la direction de Maurizio Cattelan et Chiara Parisi. \nRoberta Tenconi et Chiara Parisi croiseront leurs regards sur cet artiste incontournable de la scène artistique internationale. \nÀ l’issue de leur échange\, une signature est organisée avec l’artiste.
URL:https://sites.ac-nancy-metz.fr/histoire-des-arts/event/conference-maurizio-cattelan/
LOCATION:centre pompidou Metz\, 1 Parvis des Droits de l'Homme\, METZ\, 57000\, France
ATTACH;FMTTYPE=image/png:https://sites.ac-nancy-metz.fr/histoire-des-arts/wp-content/uploads/2025/05/Capture-decran-2025-05-10-160527-2.png
END:VEVENT
BEGIN:VEVENT
DTSTART;TZID=Europe/Paris:20260318T140000
DTEND;TZID=Europe/Paris:20260318T153000
DTSTAMP:20260421T223654
CREATED:20251105T171629Z
LAST-MODIFIED:20251106T193151Z
UID:822-1773842400-1773847800@sites.ac-nancy-metz.fr
SUMMARY:Formation à l'exposition "Louise Nevelson" au Centre Pompidou-Metz
DESCRIPTION:Pour une meilleure compréhension et exploitation pédagogique de ses expositions\, le Centre Pompidou-Metz propose aux enseignants qui le souhaitent\, une formation à la visite de l’exposition « Louise Nevelson »\, dispensée par des professeurs relais (durée : 1h30 entre 14h et 15h30).\nLes groupes sont constitués au maximum de 15 personnes.\nUn accueil est réservé près de la billetterie située à l’entrée du Centre Pompidou-Metz.\nLes enseignants doivent se munir de leur Pass Education.\nInscription auprès des professeurs relais : professeur.relais@centrepompidou-metz.fr.
URL:https://sites.ac-nancy-metz.fr/histoire-des-arts/event/formation-a-lexposition-louise-nevelson-au-centre-pompidou-metz-2/
ATTACH;FMTTYPE=image/jpeg:https://sites.ac-nancy-metz.fr/histoire-des-arts/wp-content/uploads/2025/11/tateimages_t00796_highres.jpg
END:VEVENT
BEGIN:VEVENT
DTSTART;TZID=Europe/Paris:20260319T183000
DTEND;TZID=Europe/Paris:20260319T193000
DTSTAMP:20260421T223654
CREATED:20260228T131845Z
LAST-MODIFIED:20260228T131845Z
UID:922-1773945000-1773948600@sites.ac-nancy-metz.fr
SUMMARY:Les coulisses de l'exposition Louise Nevelson au Centre Pompidou - Metz
DESCRIPTION:Conférence\n\n\n\n\n« Les coulisses de l’exposition Louise Nevelson au Centre Pompidou – Metz »\n\n\n\nPar Anne Horvath\, Commissaire de l’exposition et responsable du pôle programmation\n\n\n\n\n\n\n\n\n\n\n\n\n\nAuditorium Wendel du Centre Pompidou-Metz \n5 € | Gratuit pour les adhérents Pass-M\, Pass-M SOLO\, DUO & Jeune \n\n\n\n\n\n\n\n\nDans le cadre des conférences dédiées à la découverte des coulisses des expositions\, le Centre Pompidou-Metz propose de décortiquer pour l’exposition « Louise Nevelson. Mrs. N’s Palace » deux sujets spécifiques de la recherche préparatoire. Le premier puisera dans les archives croisées de Louise Bourgeois et de Louise Nevelson\, afin de souligner les trajectoires parallèles des deux sculptrices\, autant que leurs singularités\, tandis que le second s’attardera sur les enjeux de la reconstitution des environnements de Nevelson à l’occasion de l’exposition.
URL:https://sites.ac-nancy-metz.fr/histoire-des-arts/event/les-coulisses-de-lexposition-louise-nevelson-au-centre-pompidou-metz/
LOCATION:centre pompidou Metz\, 1 Parvis des Droits de l'Homme\, METZ\, 57000\, France
ATTACH;FMTTYPE=image/jpeg:https://sites.ac-nancy-metz.fr/histoire-des-arts/wp-content/uploads/2026/02/images.jpeg
END:VEVENT
BEGIN:VEVENT
DTSTART;TZID=Europe/Paris:20260326T183000
DTEND;TZID=Europe/Paris:20260326T193000
DTSTAMP:20260421T223654
CREATED:20260228T132252Z
LAST-MODIFIED:20260228T132410Z
UID:925-1774549800-1774553400@sites.ac-nancy-metz.fr
SUMMARY:Conférence "Les coulisses de l'exposition 'François Morellet. 100 pour cent' au Centre Pompidou - Metz"
DESCRIPTION:Conférence\n\n\n\n\n« Les coulisses de l’exposition ‘François Morellet. 100 pour cent’ au Centre Pompidou – Metz »\n\n\n\nPar Michel Gauthier\, commissaire de l’exposition et conservateur pour les collections contemporaines\, Centre Pompidou\, Paris\n\n\n\n\n\n\n\n\n\n\n\n\n\nAuditorium Wendel du Centre Pompidou-Metz \n5 € | Gratuit pour les adhérents Pass-M\, Pass-M SOLO\, DUO & Jeune \n\n\n\n\n\n\n\n\nLors de cette conférence qui préfigure l’ouverture de l’exposition « François Morellet. 100 pour cent » le 3 avril 2026\, son commissaire Michel Gauthier retrace le parcours singulier de l’artiste tout en développant l’idée qui sous-tend cette rétrospective majeure : Morellet a ceci de singulier qu’il est tout à la fois le principal représentant français de l’abstraction géométrique et celui qui a le plus décisivement contribué à la déstabiliser. Cette conférence explore\, au fil des œuvres choisies\, l’ambivalence entre déraison et raison\, entre l’héritage de Francis Picabia et celui de Piet Mondrian que l’artiste se plaît à invoquer.
URL:https://sites.ac-nancy-metz.fr/histoire-des-arts/event/conference-les-coulisses-de-lexposition-francois-morellet-100-pour-cent-au-centre-pompidou-metz/
LOCATION:centre pompidou Metz\, 1 Parvis des Droits de l'Homme\, METZ\, 57000\, France
ATTACH;FMTTYPE=image/png:https://sites.ac-nancy-metz.fr/histoire-des-arts/wp-content/uploads/2025/05/Logo_du_Centre_Pompidou-Metz.png
END:VEVENT
END:VCALENDAR